BEGIN:VCALENDAR
VERSION:2.0
PRODID:-//Hollywood Sports Complex - ECPv6.2.0.1//NONSGML v1.0//EN
CALSCALE:GREGORIAN
METHOD:PUBLISH
X-WR-CALNAME:Hollywood Sports Complex
X-ORIGINAL-URL:https://hollywoodsportscomplex.com
X-WR-CALDESC:Events for Hollywood Sports Complex
REFRESH-INTERVAL;VALUE=DURATION:PT1H
X-Robots-Tag:noindex
X-PUBLISHED-TTL:PT1H
BEGIN:VTIMEZONE
TZID:UTC
BEGIN:STANDARD
TZOFFSETFROM:+0000
TZOFFSETTO:+0000
TZNAME:UTC
DTSTART:20240101T000000
END:STANDARD
END:VTIMEZONE
BEGIN:VEVENT
DTSTART;TZID=UTC:20241130T163000
DTEND;TZID=UTC:20241130T183000
DTSTAMP:20260424T042643
CREATED:20241029T222544Z
LAST-MODIFIED:20241029T222544Z
UID:2220-1732984200-1732991400@hollywoodsportscomplex.com
SUMMARY:Meat Raffle
DESCRIPTION:
URL:https://hollywoodsportscomplex.com/event/meat-raffle-31/
END:VEVENT
BEGIN:VEVENT
DTSTART;TZID=UTC:20241130T190000
DTEND;TZID=UTC:20241130T230000
DTSTAMP:20260424T042643
CREATED:20240818T210429Z
LAST-MODIFIED:20241128T002026Z
UID:1992-1732993200-1733007600@hollywoodsportscomplex.com
SUMMARY:Groovie Tuesday Music!
DESCRIPTION:Groovie Tuesday debuts at Hollywood Sports Complex in Watertown. Please join us for food\, drinks\, friends\, and a great time!\n\nGroovie Tuesday is a show band that plays classic Funk\, R&B\, and Soulful Rock dance hits! Their singer is a former contestant on American Idol! Come out & help us welcome them to Hollywood!!
URL:https://hollywoodsportscomplex.com/event/groovie-tuesday-music/
ATTACH;FMTTYPE=image/jpeg:https://hollywoodsportscomplex.com/wp-content/uploads/2024/09/fullsizeoutput_2d370.jpeg
END:VEVENT
END:VCALENDAR