BEGIN:VCALENDAR
VERSION:2.0
PRODID:-//Hollywood Sports Complex - ECPv6.2.0.1//NONSGML v1.0//EN
CALSCALE:GREGORIAN
METHOD:PUBLISH
X-ORIGINAL-URL:https://hollywoodsportscomplex.com
X-WR-CALDESC:Events for Hollywood Sports Complex
REFRESH-INTERVAL;VALUE=DURATION:PT1H
X-Robots-Tag:noindex
X-PUBLISHED-TTL:PT1H
BEGIN:VTIMEZONE
TZID:UTC
BEGIN:STANDARD
TZOFFSETFROM:+0000
TZOFFSETTO:+0000
TZNAME:UTC
DTSTART:20240101T000000
END:STANDARD
END:VTIMEZONE
BEGIN:VEVENT
DTSTART;TZID=UTC:20241220T210000
DTEND;TZID=UTC:20241221T000000
DTSTAMP:20260424T042713
CREATED:20240731T215755Z
LAST-MODIFIED:20241204T213009Z
UID:1925-1734728400-1734739200@hollywoodsportscomplex.com
SUMMARY:IV Play live at Hollywood!
DESCRIPTION:$10 COVER / 21+ EVENT
URL:https://hollywoodsportscomplex.com/event/iv-play-live-at-hollywood/
ATTACH;FMTTYPE=image/jpeg:https://hollywoodsportscomplex.com/wp-content/uploads/2024/07/fullsizeoutput_2d371.jpeg
END:VEVENT
END:VCALENDAR