BEGIN:VCALENDAR
VERSION:2.0
PRODID:-//Hollywood Sports Complex - ECPv6.2.0.1//NONSGML v1.0//EN
CALSCALE:GREGORIAN
METHOD:PUBLISH
X-ORIGINAL-URL:https://hollywoodsportscomplex.com
X-WR-CALDESC:Events for Hollywood Sports Complex
REFRESH-INTERVAL;VALUE=DURATION:PT1H
X-Robots-Tag:noindex
X-PUBLISHED-TTL:PT1H
BEGIN:VTIMEZONE
TZID:UTC
BEGIN:STANDARD
TZOFFSETFROM:+0000
TZOFFSETTO:+0000
TZNAME:UTC
DTSTART:20240101T000000
END:STANDARD
END:VTIMEZONE
BEGIN:VEVENT
DTSTART;TZID=UTC:20241227T183000
DTEND;TZID=UTC:20241227T203000
DTSTAMP:20260424T042712
CREATED:20241128T001720Z
LAST-MODIFIED:20241204T211532Z
UID:2270-1735324200-1735331400@hollywoodsportscomplex.com
SUMMARY:Coffee Paint Night!
DESCRIPTION:Join us for a coffee paint night with Emily Victory! \nYou will be able to customize the number of coffee cups & how light/dark you like your coffee! Such a cozy vibe as we enter the New Year!Get your friends together & let’s paint some great decor for the house! Emily will be providing all canvas\, utensils\, & artistic teaching talent! We will have the food & beverages!The total is $30- which includes all supplies & a drink! Message us to sign up & then pay the day of! We have limited space so claim your spot today!
URL:https://hollywoodsportscomplex.com/event/coffee-paint-night/
ATTACH;FMTTYPE=image/jpeg:https://hollywoodsportscomplex.com/wp-content/uploads/2024/11/coffee-paint.jpeg
END:VEVENT
END:VCALENDAR