BEGIN:VCALENDAR
VERSION:2.0
PRODID:-//Hollywood Sports Complex - ECPv6.2.0.1//NONSGML v1.0//EN
CALSCALE:GREGORIAN
METHOD:PUBLISH
X-WR-CALNAME:Hollywood Sports Complex
X-ORIGINAL-URL:https://hollywoodsportscomplex.com
X-WR-CALDESC:Events for Hollywood Sports Complex
REFRESH-INTERVAL;VALUE=DURATION:PT1H
X-Robots-Tag:noindex
X-PUBLISHED-TTL:PT1H
BEGIN:VTIMEZONE
TZID:UTC
BEGIN:STANDARD
TZOFFSETFROM:+0000
TZOFFSETTO:+0000
TZNAME:UTC
DTSTART:20250101T000000
END:STANDARD
END:VTIMEZONE
BEGIN:VEVENT
DTSTART;TZID=UTC:20250117T183000
DTEND;TZID=UTC:20250117T223000
DTSTAMP:20260424T024849
CREATED:20241230T230600Z
LAST-MODIFIED:20250109T232705Z
UID:2343-1737138600-1737153000@hollywoodsportscomplex.com
SUMMARY:Kevin & Doug's Acoustic Duo
DESCRIPTION:
URL:https://hollywoodsportscomplex.com/event/kevin-dougs-acoustic-duo/
ATTACH;FMTTYPE=image/jpeg:https://hollywoodsportscomplex.com/wp-content/uploads/2024/12/kd-duo-1.17.jpeg
END:VEVENT
END:VCALENDAR