BEGIN:VCALENDAR
VERSION:2.0
PRODID:-//Hollywood Sports Complex - ECPv6.2.0.1//NONSGML v1.0//EN
CALSCALE:GREGORIAN
METHOD:PUBLISH
X-ORIGINAL-URL:https://hollywoodsportscomplex.com
X-WR-CALDESC:Events for Hollywood Sports Complex
REFRESH-INTERVAL;VALUE=DURATION:PT1H
X-Robots-Tag:noindex
X-PUBLISHED-TTL:PT1H
BEGIN:VTIMEZONE
TZID:UTC
BEGIN:STANDARD
TZOFFSETFROM:+0000
TZOFFSETTO:+0000
TZNAME:UTC
DTSTART:20250101T000000
END:STANDARD
END:VTIMEZONE
BEGIN:VEVENT
DTSTART;TZID=UTC:20250213T183000
DTEND;TZID=UTC:20250213T203000
DTSTAMP:20260424T011137
CREATED:20250122T194532Z
LAST-MODIFIED:20250122T194532Z
UID:2419-1739471400-1739478600@hollywoodsportscomplex.com
SUMMARY:GALentine's Paint Night!
DESCRIPTION:Join us for a GALentine’s paint night at Hollywood with Emily Victory!\nGet your friends together & let’s paint some great decor for the house! Emily will be providing all canvas\, utensils\, & artistic teaching talent! We will have the food & beverages!\nThe total is $30- which includes all supplies & a drink! Message us to sign up & then pay the day of! We have limited space so claim your spot today!
URL:https://hollywoodsportscomplex.com/event/galentines-paint-night/
ATTACH;FMTTYPE=image/jpeg:https://hollywoodsportscomplex.com/wp-content/uploads/2025/01/gal-paint.jpeg
END:VEVENT
END:VCALENDAR