BEGIN:VCALENDAR
VERSION:2.0
PRODID:-//Hollywood Sports Complex - ECPv6.2.0.1//NONSGML v1.0//EN
CALSCALE:GREGORIAN
METHOD:PUBLISH
X-ORIGINAL-URL:https://hollywoodsportscomplex.com
X-WR-CALDESC:Events for Hollywood Sports Complex
REFRESH-INTERVAL;VALUE=DURATION:PT1H
X-Robots-Tag:noindex
X-PUBLISHED-TTL:PT1H
BEGIN:VTIMEZONE
TZID:UTC
BEGIN:STANDARD
TZOFFSETFROM:+0000
TZOFFSETTO:+0000
TZNAME:UTC
DTSTART:20250101T000000
END:STANDARD
END:VTIMEZONE
BEGIN:VEVENT
DTSTART;TZID=UTC:20250221T193000
DTEND;TZID=UTC:20250221T230000
DTSTAMP:20260424T011139
CREATED:20241223T214246Z
LAST-MODIFIED:20250122T195346Z
UID:2336-1740166200-1740178800@hollywoodsportscomplex.com
SUMMARY:Line Dancing w/ Billie
DESCRIPTION:The date is set! Come on out to Hollywood to welcome back Billie on February 21st! It’s time to get your groove on & learn to line dance!Now is the time to try something new\, have a blast\, and create unforgettable memories. Join us for an exciting\, easy-to-follow and fun-filled dance experience – it’s going to be a great time!! Get some friends together\, plan a ride & get ready to dance the night away!– Free cover –https://www.facebook.com/share/r/ZBfZzgtFT3dwQvuc/?mibextid=UalRPS‘All roads lead to Hollywood’Be sure to come out anytime & pay us visit! We’ll have good food\, cold beer & great fun! Hope you join
URL:https://hollywoodsportscomplex.com/event/line-dancing-w-billie/
ATTACH;FMTTYPE=image/jpeg:https://hollywoodsportscomplex.com/wp-content/uploads/2024/12/line-2.21.jpeg
END:VEVENT
END:VCALENDAR