BEGIN:VCALENDAR
VERSION:2.0
PRODID:-//Hollywood Sports Complex - ECPv6.2.0.1//NONSGML v1.0//EN
CALSCALE:GREGORIAN
METHOD:PUBLISH
X-WR-CALNAME:Hollywood Sports Complex
X-ORIGINAL-URL:https://hollywoodsportscomplex.com
X-WR-CALDESC:Events for Hollywood Sports Complex
REFRESH-INTERVAL;VALUE=DURATION:PT1H
X-Robots-Tag:noindex
X-PUBLISHED-TTL:PT1H
BEGIN:VTIMEZONE
TZID:UTC
BEGIN:STANDARD
TZOFFSETFROM:+0000
TZOFFSETTO:+0000
TZNAME:UTC
DTSTART:20250101T000000
END:STANDARD
END:VTIMEZONE
BEGIN:VEVENT
DTSTART;TZID=UTC:20250222T163000
DTEND;TZID=UTC:20250222T183000
DTSTAMP:20260424T011129
CREATED:20250116T200839Z
LAST-MODIFIED:20250120T203658Z
UID:2390-1740241800-1740249000@hollywoodsportscomplex.com
SUMMARY:Big Meat Raffle for local Tip Up Tourney!
DESCRIPTION:
URL:https://hollywoodsportscomplex.com/event/meat-raffle-41/
ATTACH;FMTTYPE=image/jpeg:https://hollywoodsportscomplex.com/wp-content/uploads/2023/10/fullsizeoutput_227eb.jpeg
END:VEVENT
BEGIN:VEVENT
DTSTART;TZID=UTC:20250222T190000
DTEND;TZID=UTC:20250222T230000
DTSTAMP:20260424T011129
CREATED:20241230T230754Z
LAST-MODIFIED:20250122T195543Z
UID:2345-1740250800-1740265200@hollywoodsportscomplex.com
SUMMARY:DJ Doofy
DESCRIPTION:DJ Doofy returns! \nWe have a big meat raffle beforehand & Doofy will start music around 7:30pm! It is going to be a great time- come on out!
URL:https://hollywoodsportscomplex.com/event/dj-doofy-3/
ATTACH;FMTTYPE=image/jpeg:https://hollywoodsportscomplex.com/wp-content/uploads/2024/12/dj-doof-2.22.jpeg
END:VEVENT
END:VCALENDAR