BEGIN:VCALENDAR
VERSION:2.0
PRODID:-//Hollywood Sports Complex - ECPv6.2.0.1//NONSGML v1.0//EN
CALSCALE:GREGORIAN
METHOD:PUBLISH
X-WR-CALNAME:Hollywood Sports Complex
X-ORIGINAL-URL:https://hollywoodsportscomplex.com
X-WR-CALDESC:Events for Hollywood Sports Complex
REFRESH-INTERVAL;VALUE=DURATION:PT1H
X-Robots-Tag:noindex
X-PUBLISHED-TTL:PT1H
BEGIN:VTIMEZONE
TZID:UTC
BEGIN:STANDARD
TZOFFSETFROM:+0000
TZOFFSETTO:+0000
TZNAME:UTC
DTSTART:20250101T000000
END:STANDARD
END:VTIMEZONE
BEGIN:VEVENT
DTSTART;TZID=UTC:20250322T120000
DTEND;TZID=UTC:20250322T160000
DTSTAMP:20260423T233545
CREATED:20250124T201704Z
LAST-MODIFIED:20250124T201704Z
UID:2433-1742644800-1742659200@hollywoodsportscomplex.com
SUMMARY:No-Tap Bowling Tourney
DESCRIPTION:The Annual No-Tap Bowling Tournament is here!! Singles & Mixed Doubles!\nTwo shifts at 12pm & 2pm every Saturday\, starting on 3/22 & ending on 4/19!\nGet your people together & join the fun! ALSO a BIG thank you to all of our sponsors!!\nCall 952-955-2424 for reservations & questions!
URL:https://hollywoodsportscomplex.com/event/no-tap-bowling-tourney/
ATTACH;FMTTYPE=image/jpeg:https://hollywoodsportscomplex.com/wp-content/uploads/2025/01/no-tap-2025.jpeg
END:VEVENT
BEGIN:VEVENT
DTSTART;TZID=UTC:20250322T163000
DTEND;TZID=UTC:20250322T183000
DTSTAMP:20260423T233545
CREATED:20250214T175015Z
LAST-MODIFIED:20250214T175015Z
UID:2475-1742661000-1742668200@hollywoodsportscomplex.com
SUMMARY:Meat Raffle
DESCRIPTION:
URL:https://hollywoodsportscomplex.com/event/meat-raffle-45/
ATTACH;FMTTYPE=image/jpeg:https://hollywoodsportscomplex.com/wp-content/uploads/2023/10/fullsizeoutput_227eb.jpeg
END:VEVENT
BEGIN:VEVENT
DTSTART;TZID=UTC:20250322T180000
DTEND;TZID=UTC:20250322T213000
DTSTAMP:20260423T233545
CREATED:20241217T180933Z
LAST-MODIFIED:20250219T204654Z
UID:2322-1742666400-1742679000@hollywoodsportscomplex.com
SUMMARY:Just Us (With Sheldon Brandt)
DESCRIPTION:
URL:https://hollywoodsportscomplex.com/event/just-us-3/
ATTACH;FMTTYPE=image/jpeg:https://hollywoodsportscomplex.com/wp-content/uploads/2024/12/just-us-3.22.jpeg
END:VEVENT
END:VCALENDAR