BEGIN:VCALENDAR
VERSION:2.0
PRODID:-//Hollywood Sports Complex - ECPv6.2.0.1//NONSGML v1.0//EN
CALSCALE:GREGORIAN
METHOD:PUBLISH
X-WR-CALNAME:Hollywood Sports Complex
X-ORIGINAL-URL:https://hollywoodsportscomplex.com
X-WR-CALDESC:Events for Hollywood Sports Complex
REFRESH-INTERVAL;VALUE=DURATION:PT1H
X-Robots-Tag:noindex
X-PUBLISHED-TTL:PT1H
BEGIN:VTIMEZONE
TZID:UTC
BEGIN:STANDARD
TZOFFSETFROM:+0000
TZOFFSETTO:+0000
TZNAME:UTC
DTSTART:20250101T000000
END:STANDARD
END:VTIMEZONE
BEGIN:VEVENT
DTSTART;TZID=UTC:20250419T120000
DTEND;TZID=UTC:20250419T160000
DTSTAMP:20260423T222512
CREATED:20250124T202237Z
LAST-MODIFIED:20250124T202350Z
UID:2442-1745064000-1745078400@hollywoodsportscomplex.com
SUMMARY:No-Tap Bowling Tourney
DESCRIPTION:The Annual No-Tap Bowling Tournament is here!! Singles & Mixed Doubles!\nTwo shifts at 12pm & 2pm every Saturday\, starting on 3/22 & ending on 4/19!\nGet your people together & join the fun! ALSO a BIG thank you to all of our sponsors!!\nCall 952-955-2424 for reservations & questions!
URL:https://hollywoodsportscomplex.com/event/no-tap-tourney/
ATTACH;FMTTYPE=image/jpeg:https://hollywoodsportscomplex.com/wp-content/uploads/2025/01/no-tap-2025.jpeg
END:VEVENT
BEGIN:VEVENT
DTSTART;TZID=UTC:20250419T163000
DTEND;TZID=UTC:20250419T183000
DTSTAMP:20260423T222512
CREATED:20250219T205127Z
LAST-MODIFIED:20250408T193754Z
UID:2510-1745080200-1745087400@hollywoodsportscomplex.com
SUMMARY:Our LAST Meat Raffle of the season!
DESCRIPTION:Meat raffles will return in the fall! THANK YOU for such a fun season!! \n 
URL:https://hollywoodsportscomplex.com/event/meat-raffle-49/
END:VEVENT
BEGIN:VEVENT
DTSTART;TZID=UTC:20250419T200000
DTEND;TZID=UTC:20250419T233000
DTSTAMP:20260423T222512
CREATED:20241217T181054Z
LAST-MODIFIED:20250408T194603Z
UID:2324-1745092800-1745105400@hollywoodsportscomplex.com
SUMMARY:Winstock Rumble!!
DESCRIPTION:
URL:https://hollywoodsportscomplex.com/event/winstock-rumble/
ATTACH;FMTTYPE=image/jpeg:https://hollywoodsportscomplex.com/wp-content/uploads/2024/12/rumble-25.jpeg
END:VEVENT
END:VCALENDAR