BEGIN:VCALENDAR
VERSION:2.0
PRODID:-//Hollywood Sports Complex - ECPv6.2.0.1//NONSGML v1.0//EN
CALSCALE:GREGORIAN
METHOD:PUBLISH
X-WR-CALNAME:Hollywood Sports Complex
X-ORIGINAL-URL:https://hollywoodsportscomplex.com
X-WR-CALDESC:Events for Hollywood Sports Complex
REFRESH-INTERVAL;VALUE=DURATION:PT1H
X-Robots-Tag:noindex
X-PUBLISHED-TTL:PT1H
BEGIN:VTIMEZONE
TZID:UTC
BEGIN:STANDARD
TZOFFSETFROM:+0000
TZOFFSETTO:+0000
TZNAME:UTC
DTSTART:20250101T000000
END:STANDARD
END:VTIMEZONE
BEGIN:VEVENT
DTSTART;TZID=UTC:20250424T183000
DTEND;TZID=UTC:20250424T200000
DTSTAMP:20260423T222512
CREATED:20250219T205513Z
LAST-MODIFIED:20250324T201023Z
UID:2514-1745519400-1745524800@hollywoodsportscomplex.com
SUMMARY:Summer Sand Volleyball Sign-Ups
DESCRIPTION:
URL:https://hollywoodsportscomplex.com/event/summer-sand-volleyball-sign-ups/
ATTACH;FMTTYPE=image/jpeg:https://hollywoodsportscomplex.com/wp-content/uploads/2025/02/vball-25.jpeg
END:VEVENT
END:VCALENDAR