BEGIN:VCALENDAR
VERSION:2.0
PRODID:-//Hollywood Sports Complex - ECPv6.2.0.1//NONSGML v1.0//EN
CALSCALE:GREGORIAN
METHOD:PUBLISH
X-ORIGINAL-URL:https://hollywoodsportscomplex.com
X-WR-CALDESC:Events for Hollywood Sports Complex
REFRESH-INTERVAL;VALUE=DURATION:PT1H
X-Robots-Tag:noindex
X-PUBLISHED-TTL:PT1H
BEGIN:VTIMEZONE
TZID:UTC
BEGIN:STANDARD
TZOFFSETFROM:+0000
TZOFFSETTO:+0000
TZNAME:UTC
DTSTART:20250101T000000
END:STANDARD
END:VTIMEZONE
BEGIN:VEVENT
DTSTART;TZID=UTC:20250707T003000
DTEND;TZID=UTC:20250710T233000
DTSTAMP:20260423T180256
CREATED:20250706T212817Z
LAST-MODIFIED:20250706T212830Z
UID:2820-1751848200-1752190200@hollywoodsportscomplex.com
SUMMARY:Join our Bean Bag League!
DESCRIPTION:BEAN BAGS! A NEW league!! \nWe are trying something new- join us! \nOnly a 6 week season\, beginning July 16th!\nWednesday nights // 21+\nOpen to all skill levels! \nRegister a team today! You have until July 10th to sign up\, OR until the league reaches MAX!
URL:https://hollywoodsportscomplex.com/event/join-our-bean-bag-league/
ATTACH;FMTTYPE=image/jpeg:https://hollywoodsportscomplex.com/wp-content/uploads/2025/06/bags-25.jpeg
END:VEVENT
BEGIN:VEVENT
DTSTART;TZID=UTC:20250708T180000
DTEND;TZID=UTC:20250710T230000
DTSTAMP:20260423T180256
CREATED:20250618T220718Z
LAST-MODIFIED:20250707T233220Z
UID:2788-1751997600-1752188400@hollywoodsportscomplex.com
SUMMARY:Weekly Sports!
DESCRIPTION:
URL:https://hollywoodsportscomplex.com/event/weekly-volleyball-softball/
ATTACH;FMTTYPE=image/png:https://hollywoodsportscomplex.com/wp-content/uploads/2025/06/Green-Black-Modern-Schedule-Poster-4.png
END:VEVENT
END:VCALENDAR