BEGIN:VCALENDAR
VERSION:2.0
PRODID:-//Hollywood Sports Complex - ECPv6.2.0.1//NONSGML v1.0//EN
CALSCALE:GREGORIAN
METHOD:PUBLISH
X-ORIGINAL-URL:https://hollywoodsportscomplex.com
X-WR-CALDESC:Events for Hollywood Sports Complex
REFRESH-INTERVAL;VALUE=DURATION:PT1H
X-Robots-Tag:noindex
X-PUBLISHED-TTL:PT1H
BEGIN:VTIMEZONE
TZID:UTC
BEGIN:STANDARD
TZOFFSETFROM:+0000
TZOFFSETTO:+0000
TZNAME:UTC
DTSTART:20250101T000000
END:STANDARD
END:VTIMEZONE
BEGIN:VEVENT
DTSTART;TZID=UTC:20250715T170000
DTEND;TZID=UTC:20250717T230000
DTSTAMP:20260423T180308
CREATED:20250625T235048Z
LAST-MODIFIED:20250707T233250Z
UID:2801-1752598800-1752793200@hollywoodsportscomplex.com
SUMMARY:Weekly Volleyball & Softball!
DESCRIPTION:
URL:https://hollywoodsportscomplex.com/event/weekly-sports-8/
ATTACH;FMTTYPE=image/png:https://hollywoodsportscomplex.com/wp-content/uploads/2025/06/Green-Black-Modern-Schedule-Poster-5.png
END:VEVENT
END:VCALENDAR