BEGIN:VCALENDAR
VERSION:2.0
PRODID:-//Hollywood Sports Complex - ECPv6.2.0.1//NONSGML v1.0//EN
CALSCALE:GREGORIAN
METHOD:PUBLISH
X-ORIGINAL-URL:https://hollywoodsportscomplex.com
X-WR-CALDESC:Events for Hollywood Sports Complex
REFRESH-INTERVAL;VALUE=DURATION:PT1H
X-Robots-Tag:noindex
X-PUBLISHED-TTL:PT1H
BEGIN:VTIMEZONE
TZID:UTC
BEGIN:STANDARD
TZOFFSETFROM:+0000
TZOFFSETTO:+0000
TZNAME:UTC
DTSTART:20250101T000000
END:STANDARD
END:VTIMEZONE
BEGIN:VEVENT
DTSTART;TZID=UTC:20250721T170000
DTEND;TZID=UTC:20250721T210000
DTSTAMP:20260423T180257
CREATED:20250707T234725Z
LAST-MODIFIED:20250707T234725Z
UID:2842-1753117200-1753131600@hollywoodsportscomplex.com
SUMMARY:Youth Sand Volleyball League Night! (10-12th)
DESCRIPTION:Drinks & our FULL food menu will be available on the patio!
URL:https://hollywoodsportscomplex.com/event/youth-sand-volleyball-league-night-10-12th-2/
END:VEVENT
END:VCALENDAR