BEGIN:VCALENDAR
VERSION:2.0
PRODID:-//Hollywood Sports Complex - ECPv6.2.0.1//NONSGML v1.0//EN
CALSCALE:GREGORIAN
METHOD:PUBLISH
X-ORIGINAL-URL:https://hollywoodsportscomplex.com
X-WR-CALDESC:Events for Hollywood Sports Complex
REFRESH-INTERVAL;VALUE=DURATION:PT1H
X-Robots-Tag:noindex
X-PUBLISHED-TTL:PT1H
BEGIN:VTIMEZONE
TZID:UTC
BEGIN:STANDARD
TZOFFSETFROM:+0000
TZOFFSETTO:+0000
TZNAME:UTC
DTSTART:20250101T000000
END:STANDARD
END:VTIMEZONE
BEGIN:VEVENT
DTSTART;TZID=UTC:20250726T100000
DTEND;TZID=UTC:20250726T170000
DTSTAMP:20260423T180308
CREATED:20250422T204721Z
LAST-MODIFIED:20250625T234944Z
UID:2625-1753524000-1753549200@hollywoodsportscomplex.com
SUMMARY:MN Beach Brawl
DESCRIPTION:Check-in is from 8:00AM – 9:00AM & wrestling begins at 10AM! Come out & check it out! We are so excited to host!
URL:https://hollywoodsportscomplex.com/event/mn-beach-brawl/
ATTACH;FMTTYPE=image/jpeg:https://hollywoodsportscomplex.com/wp-content/uploads/2025/04/brawl-25.jpeg
END:VEVENT
END:VCALENDAR