BEGIN:VCALENDAR
VERSION:2.0
PRODID:-//Hollywood Sports Complex - ECPv6.2.0.1//NONSGML v1.0//EN
CALSCALE:GREGORIAN
METHOD:PUBLISH
X-WR-CALNAME:Hollywood Sports Complex
X-ORIGINAL-URL:https://hollywoodsportscomplex.com
X-WR-CALDESC:Events for Hollywood Sports Complex
REFRESH-INTERVAL;VALUE=DURATION:PT1H
X-Robots-Tag:noindex
X-PUBLISHED-TTL:PT1H
BEGIN:VTIMEZONE
TZID:UTC
BEGIN:STANDARD
TZOFFSETFROM:+0000
TZOFFSETTO:+0000
TZNAME:UTC
DTSTART:20260101T000000
END:STANDARD
END:VTIMEZONE
BEGIN:VEVENT
DTSTART;TZID=UTC:20260108T190000
DTEND;TZID=UTC:20260111T130000
DTSTAMP:20260423T083925
CREATED:20251205T193733Z
LAST-MODIFIED:20251205T193733Z
UID:3244-1767898800-1768136400@hollywoodsportscomplex.com
SUMMARY:Carver County Men's Mid-Season Pool Tournament
DESCRIPTION:
URL:https://hollywoodsportscomplex.com/event/carver-county-mens-mid-season-pool-tournament/
END:VEVENT
END:VCALENDAR