BEGIN:VCALENDAR
VERSION:2.0
PRODID:-//Hollywood Sports Complex - ECPv6.2.0.1//NONSGML v1.0//EN
CALSCALE:GREGORIAN
METHOD:PUBLISH
X-ORIGINAL-URL:https://hollywoodsportscomplex.com
X-WR-CALDESC:Events for Hollywood Sports Complex
REFRESH-INTERVAL;VALUE=DURATION:PT1H
X-Robots-Tag:noindex
X-PUBLISHED-TTL:PT1H
BEGIN:VTIMEZONE
TZID:UTC
BEGIN:STANDARD
TZOFFSETFROM:+0000
TZOFFSETTO:+0000
TZNAME:UTC
DTSTART:20260101T000000
END:STANDARD
END:VTIMEZONE
BEGIN:VEVENT
DTSTART;TZID=UTC:20260124T163000
DTEND;TZID=UTC:20260124T180000
DTSTAMP:20260419T202123
CREATED:20251205T194823Z
LAST-MODIFIED:20260114T203136Z
UID:3254-1769272200-1769277600@hollywoodsportscomplex.com
SUMMARY:Meat Raffle!
DESCRIPTION:Stick around afterwards for live music!
URL:https://hollywoodsportscomplex.com/event/meat-raffle-58/
END:VEVENT
BEGIN:VEVENT
DTSTART;TZID=UTC:20260124T183000
DTEND;TZID=UTC:20260124T213000
DTSTAMP:20260419T202123
CREATED:20260106T224553Z
LAST-MODIFIED:20260107T221601Z
UID:3315-1769279400-1769290200@hollywoodsportscomplex.com
SUMMARY:Isaiah Müller with Michael Korte
DESCRIPTION:Music begins after the meat raffle! Come on out\, it’s going to be a good time! \nThe duo will be playing all your favorites from the 90’s\, 00’s\, Southern Rock\, and Modern Country!
URL:https://hollywoodsportscomplex.com/event/isaiah-muller-duo/
ATTACH;FMTTYPE=image/jpeg:https://hollywoodsportscomplex.com/wp-content/uploads/2026/01/IM-MK-1.24.jpeg
END:VEVENT
END:VCALENDAR