BEGIN:VCALENDAR
VERSION:2.0
PRODID:-//Hollywood Sports Complex - ECPv6.2.0.1//NONSGML v1.0//EN
CALSCALE:GREGORIAN
METHOD:PUBLISH
X-ORIGINAL-URL:https://hollywoodsportscomplex.com
X-WR-CALDESC:Events for Hollywood Sports Complex
REFRESH-INTERVAL;VALUE=DURATION:PT1H
X-Robots-Tag:noindex
X-PUBLISHED-TTL:PT1H
BEGIN:VTIMEZONE
TZID:UTC
BEGIN:STANDARD
TZOFFSETFROM:+0000
TZOFFSETTO:+0000
TZNAME:UTC
DTSTART:20240101T000000
END:STANDARD
END:VTIMEZONE
BEGIN:VEVENT
DTSTART;TZID=UTC:20240217T190000
DTEND;TZID=UTC:20240217T230000
DTSTAMP:20260421T072945
CREATED:20240108T000239Z
LAST-MODIFIED:20240126T190735Z
UID:1535-1708196400-1708210800@hollywoodsportscomplex.com
SUMMARY:Heavy for the Hawk
DESCRIPTION:Live music by Heavy for the Hawk on Februarty 17th from 7-11pm!
URL:https://hollywoodsportscomplex.com/event/heavy-for-the-hawk/
CATEGORIES:Live Music
ATTACH;FMTTYPE=image/jpeg:https://hollywoodsportscomplex.com/wp-content/uploads/2024/01/heavy-hawk-2.17.jpeg
END:VEVENT
BEGIN:VEVENT
DTSTART;TZID=UTC:20240223T203000
DTEND;TZID=UTC:20240223T233000
DTSTAMP:20260421T072945
CREATED:20240110T182325Z
LAST-MODIFIED:20240116T221034Z
UID:1576-1708720200-1708731000@hollywoodsportscomplex.com
SUMMARY:Mitch Gordon
DESCRIPTION:$5 cover / 21+ event
URL:https://hollywoodsportscomplex.com/event/mitch-gordon/
CATEGORIES:Live Music
ATTACH;FMTTYPE=image/jpeg:https://hollywoodsportscomplex.com/wp-content/uploads/2024/01/mitch-2.23.24.jpeg
END:VEVENT
BEGIN:VEVENT
DTSTART;TZID=UTC:20240224T180000
DTEND;TZID=UTC:20240224T213000
DTSTAMP:20260421T072945
CREATED:20240108T002238Z
LAST-MODIFIED:20240126T191227Z
UID:1546-1708797600-1708810200@hollywoodsportscomplex.com
SUMMARY:Just Us
DESCRIPTION:Come on out & enjoy some live music by Just Us\, following our meat raffle!
URL:https://hollywoodsportscomplex.com/event/just-us/
CATEGORIES:Live Music
ATTACH;FMTTYPE=image/jpeg:https://hollywoodsportscomplex.com/wp-content/uploads/2024/01/B57175D2-51B6-4A82-BDEB-FC4C603F05FC.jpg
END:VEVENT
END:VCALENDAR