BEGIN:VCALENDAR
VERSION:2.0
PRODID:-//Hollywood Sports Complex - ECPv6.2.0.1//NONSGML v1.0//EN
CALSCALE:GREGORIAN
METHOD:PUBLISH
X-ORIGINAL-URL:https://hollywoodsportscomplex.com
X-WR-CALDESC:Events for Hollywood Sports Complex
REFRESH-INTERVAL;VALUE=DURATION:PT1H
X-Robots-Tag:noindex
X-PUBLISHED-TTL:PT1H
BEGIN:VTIMEZONE
TZID:UTC
BEGIN:STANDARD
TZOFFSETFROM:+0000
TZOFFSETTO:+0000
TZNAME:UTC
DTSTART:20240101T000000
END:STANDARD
END:VTIMEZONE
BEGIN:VEVENT
DTSTART;TZID=UTC:20241011T200000
DTEND;TZID=UTC:20241011T230000
DTSTAMP:20260421T101313
CREATED:20240731T215534Z
LAST-MODIFIED:20240829T175122Z
UID:1919-1728676800-1728687600@hollywoodsportscomplex.com
SUMMARY:Live Music by Bill Litzau!
DESCRIPTION:Hey all! Join us for a great night of live music by Bill Litzau & Open Highway! The date is set for our first LIVE BAND of the season- Friday\, October 11th! We hope to see you there! Gather your people\, plan a ride & get ready to dance the night away!
URL:https://hollywoodsportscomplex.com/event/live-music-by-bill-litzau/
CATEGORIES:Live Music
ATTACH;FMTTYPE=image/jpeg:https://hollywoodsportscomplex.com/wp-content/uploads/2024/07/Bill-Litzau-10.11.24.jpeg
END:VEVENT
BEGIN:VEVENT
DTSTART;TZID=UTC:20241005T190000
DTEND;TZID=UTC:20241005T233000
DTSTAMP:20260421T101313
CREATED:20240731T215448Z
LAST-MODIFIED:20240829T175111Z
UID:1917-1728154800-1728171000@hollywoodsportscomplex.com
SUMMARY:Line Dancing with Billie!
DESCRIPTION:Let’s do it again!!! Come on out to Hollywood to welcome back Billie on October 5th! It’s time to get your groove on & learn to line dance!Now is the time to try something new\, have a blast\, and create unforgettable memories. Join us for an exciting\, easy-to-follow and fun-filled dance experience – it’s going to be a great time!! Get some friends together\, plan a ride & get ready to dance the night away!– Free cover –
URL:https://hollywoodsportscomplex.com/event/line-dancing-with-billie-2/
CATEGORIES:Live Music
ATTACH;FMTTYPE=image/jpeg:https://hollywoodsportscomplex.com/wp-content/uploads/2024/07/Linedance-10.5.24.jpeg
END:VEVENT
BEGIN:VEVENT
DTSTART;TZID=UTC:20240330T200000
DTEND;TZID=UTC:20240331T000000
DTSTAMP:20260421T101313
CREATED:20240108T003150Z
LAST-MODIFIED:20240314T181208Z
UID:1552-1711828800-1711843200@hollywoodsportscomplex.com
SUMMARY:In The Fields
DESCRIPTION:Night Before Easter! Get your people together & help us welcome a new band to Hollywood!
URL:https://hollywoodsportscomplex.com/event/in-the-fields/
CATEGORIES:Live Music
ATTACH;FMTTYPE=image/jpeg:https://hollywoodsportscomplex.com/wp-content/uploads/2024/01/fields-3.30.jpeg
END:VEVENT
BEGIN:VEVENT
DTSTART;TZID=UTC:20240316T210000
DTEND;TZID=UTC:20240317T003000
DTSTAMP:20260421T101313
CREATED:20240108T002905Z
LAST-MODIFIED:20240306T233008Z
UID:1550-1710622800-1710635400@hollywoodsportscomplex.com
SUMMARY:St. Patty's Party with Afterthought
DESCRIPTION:
URL:https://hollywoodsportscomplex.com/event/st-pattys-party-with-afterthought/
CATEGORIES:Live Music
ATTACH;FMTTYPE=image/jpeg:https://hollywoodsportscomplex.com/wp-content/uploads/2024/01/st.-pattys-3.16.24.jpeg
END:VEVENT
BEGIN:VEVENT
DTSTART;TZID=UTC:20240309T180000
DTEND;TZID=UTC:20240309T220000
DTSTAMP:20260421T101313
CREATED:20240108T002613Z
LAST-MODIFIED:20240126T191308Z
UID:1548-1710007200-1710021600@hollywoodsportscomplex.com
SUMMARY:Hell Country Truckers Duo
DESCRIPTION:
URL:https://hollywoodsportscomplex.com/event/hell-country-truckers-duo/
CATEGORIES:Live Music
ATTACH;FMTTYPE=image/jpeg:https://hollywoodsportscomplex.com/wp-content/uploads/2024/01/Hollywood-sports-complex.jpg
END:VEVENT
BEGIN:VEVENT
DTSTART;TZID=UTC:20240301T210000
DTEND;TZID=UTC:20240302T003000
DTSTAMP:20260421T101313
CREATED:20240108T000412Z
LAST-MODIFIED:20240110T183015Z
UID:1538-1709326800-1709339400@hollywoodsportscomplex.com
SUMMARY:IV Play
DESCRIPTION:$5 cover / 21+ event
URL:https://hollywoodsportscomplex.com/event/iv-play/
CATEGORIES:Live Music
END:VEVENT
BEGIN:VEVENT
DTSTART;TZID=UTC:20240224T180000
DTEND;TZID=UTC:20240224T213000
DTSTAMP:20260421T101313
CREATED:20240108T002238Z
LAST-MODIFIED:20240126T191227Z
UID:1546-1708797600-1708810200@hollywoodsportscomplex.com
SUMMARY:Just Us
DESCRIPTION:Come on out & enjoy some live music by Just Us\, following our meat raffle!
URL:https://hollywoodsportscomplex.com/event/just-us/
CATEGORIES:Live Music
ATTACH;FMTTYPE=image/jpeg:https://hollywoodsportscomplex.com/wp-content/uploads/2024/01/B57175D2-51B6-4A82-BDEB-FC4C603F05FC.jpg
END:VEVENT
BEGIN:VEVENT
DTSTART;TZID=UTC:20240223T203000
DTEND;TZID=UTC:20240223T233000
DTSTAMP:20260421T101313
CREATED:20240110T182325Z
LAST-MODIFIED:20240116T221034Z
UID:1576-1708720200-1708731000@hollywoodsportscomplex.com
SUMMARY:Mitch Gordon
DESCRIPTION:$5 cover / 21+ event
URL:https://hollywoodsportscomplex.com/event/mitch-gordon/
CATEGORIES:Live Music
ATTACH;FMTTYPE=image/jpeg:https://hollywoodsportscomplex.com/wp-content/uploads/2024/01/mitch-2.23.24.jpeg
END:VEVENT
BEGIN:VEVENT
DTSTART;TZID=UTC:20240217T190000
DTEND;TZID=UTC:20240217T230000
DTSTAMP:20260421T101313
CREATED:20240108T000239Z
LAST-MODIFIED:20240126T190735Z
UID:1535-1708196400-1708210800@hollywoodsportscomplex.com
SUMMARY:Heavy for the Hawk
DESCRIPTION:Live music by Heavy for the Hawk on Februarty 17th from 7-11pm!
URL:https://hollywoodsportscomplex.com/event/heavy-for-the-hawk/
CATEGORIES:Live Music
ATTACH;FMTTYPE=image/jpeg:https://hollywoodsportscomplex.com/wp-content/uploads/2024/01/heavy-hawk-2.17.jpeg
END:VEVENT
END:VCALENDAR