BEGIN:VCALENDAR
VERSION:2.0
PRODID:-//Hollywood Sports Complex - ECPv6.2.0.1//NONSGML v1.0//EN
CALSCALE:GREGORIAN
METHOD:PUBLISH
X-ORIGINAL-URL:https://hollywoodsportscomplex.com
X-WR-CALDESC:Events for Hollywood Sports Complex
REFRESH-INTERVAL;VALUE=DURATION:PT1H
X-Robots-Tag:noindex
X-PUBLISHED-TTL:PT1H
BEGIN:VTIMEZONE
TZID:UTC
BEGIN:STANDARD
TZOFFSETFROM:+0000
TZOFFSETTO:+0000
TZNAME:UTC
DTSTART:20250101T000000
END:STANDARD
END:VTIMEZONE
BEGIN:VEVENT
DTSTART;TZID=UTC:20250109T190000
DTEND;TZID=UTC:20250112T170000
DTSTAMP:20260424T011150
CREATED:20241204T232223Z
LAST-MODIFIED:20241204T232223Z
UID:2311-1736449200-1736701200@hollywoodsportscomplex.com
SUMMARY:Carver County Men's Mid-Season Pool Tourney
DESCRIPTION:
URL:https://hollywoodsportscomplex.com/event/carver-county-mens-mid-season-pool-tourney/
END:VEVENT
BEGIN:VEVENT
DTSTART;TZID=UTC:20250111T163000
DTEND;TZID=UTC:20250111T183000
DTSTAMP:20260424T011150
CREATED:20250109T232827Z
LAST-MODIFIED:20250109T232827Z
UID:2365-1736613000-1736620200@hollywoodsportscomplex.com
SUMMARY:Meat Raffle!
DESCRIPTION:
URL:https://hollywoodsportscomplex.com/event/meat-raffle-35/
ATTACH;FMTTYPE=image/jpeg:https://hollywoodsportscomplex.com/wp-content/uploads/2023/10/fullsizeoutput_227eb.jpeg
END:VEVENT
BEGIN:VEVENT
DTSTART;TZID=UTC:20250117T183000
DTEND;TZID=UTC:20250117T223000
DTSTAMP:20260424T011150
CREATED:20241230T230600Z
LAST-MODIFIED:20250109T232705Z
UID:2343-1737138600-1737153000@hollywoodsportscomplex.com
SUMMARY:Kevin & Doug's Acoustic Duo
DESCRIPTION:
URL:https://hollywoodsportscomplex.com/event/kevin-dougs-acoustic-duo/
ATTACH;FMTTYPE=image/jpeg:https://hollywoodsportscomplex.com/wp-content/uploads/2024/12/kd-duo-1.17.jpeg
END:VEVENT
BEGIN:VEVENT
DTSTART;TZID=UTC:20250118T163000
DTEND;TZID=UTC:20250118T183000
DTSTAMP:20260424T011150
CREATED:20250110T205826Z
LAST-MODIFIED:20250110T205826Z
UID:2369-1737217800-1737225000@hollywoodsportscomplex.com
SUMMARY:Meat Raffle
DESCRIPTION:
URL:https://hollywoodsportscomplex.com/event/meat-raffle-36/
END:VEVENT
BEGIN:VEVENT
DTSTART;TZID=UTC:20250125T163000
DTEND;TZID=UTC:20250125T183000
DTSTAMP:20260424T011150
CREATED:20250110T205920Z
LAST-MODIFIED:20250110T205920Z
UID:2371-1737822600-1737829800@hollywoodsportscomplex.com
SUMMARY:Meat Raffle!
DESCRIPTION:
URL:https://hollywoodsportscomplex.com/event/meat-raffle-37/
ATTACH;FMTTYPE=image/jpeg:https://hollywoodsportscomplex.com/wp-content/uploads/2023/10/fullsizeoutput_227eb.jpeg
END:VEVENT
BEGIN:VEVENT
DTSTART;TZID=UTC:20250131T193000
DTEND;TZID=UTC:20250131T233000
DTSTAMP:20260424T011150
CREATED:20241128T002928Z
LAST-MODIFIED:20250122T194748Z
UID:2280-1738351800-1738366200@hollywoodsportscomplex.com
SUMMARY:The Double Dees
DESCRIPTION:Join us for a fun night of music! Come on out and welcome them to Hollywood!
URL:https://hollywoodsportscomplex.com/event/the-double-dees/
ATTACH;FMTTYPE=image/jpeg:https://hollywoodsportscomplex.com/wp-content/uploads/2024/12/dees-1.31.jpeg
END:VEVENT
END:VCALENDAR