BEGIN:VCALENDAR
VERSION:2.0
PRODID:-//Hollywood Sports Complex - ECPv6.2.0.1//NONSGML v1.0//EN
CALSCALE:GREGORIAN
METHOD:PUBLISH
X-WR-CALNAME:Hollywood Sports Complex
X-ORIGINAL-URL:https://hollywoodsportscomplex.com
X-WR-CALDESC:Events for Hollywood Sports Complex
REFRESH-INTERVAL;VALUE=DURATION:PT1H
X-Robots-Tag:noindex
X-PUBLISHED-TTL:PT1H
BEGIN:VTIMEZONE
TZID:UTC
BEGIN:STANDARD
TZOFFSETFROM:+0000
TZOFFSETTO:+0000
TZNAME:UTC
DTSTART:20250101T000000
END:STANDARD
END:VTIMEZONE
BEGIN:VEVENT
DTSTART;TZID=UTC:20250301T163000
DTEND;TZID=UTC:20250301T183000
DTSTAMP:20260423T222544
CREATED:20250116T203040Z
LAST-MODIFIED:20250116T203040Z
UID:2392-1740846600-1740853800@hollywoodsportscomplex.com
SUMMARY:Meat Raffle!
DESCRIPTION:
URL:https://hollywoodsportscomplex.com/event/meat-raffle-42/
END:VEVENT
BEGIN:VEVENT
DTSTART;TZID=UTC:20250308T163000
DTEND;TZID=UTC:20250308T183000
DTSTAMP:20260423T222544
CREATED:20250214T174702Z
LAST-MODIFIED:20250219T194412Z
UID:2471-1741451400-1741458600@hollywoodsportscomplex.com
SUMMARY:Meat Raffle!
DESCRIPTION:
URL:https://hollywoodsportscomplex.com/event/meat-raffle-43/
ATTACH;FMTTYPE=image/jpeg:https://hollywoodsportscomplex.com/wp-content/uploads/2023/10/fullsizeoutput_227eb.jpeg
END:VEVENT
BEGIN:VEVENT
DTSTART;TZID=UTC:20250308T200000
DTEND;TZID=UTC:20250308T233000
DTSTAMP:20260423T222544
CREATED:20241128T003142Z
LAST-MODIFIED:20250228T200526Z
UID:2288-1741464000-1741476600@hollywoodsportscomplex.com
SUMMARY:DJ Chopper
DESCRIPTION:Let’s celebrate Mardi Gras & St. Patty’s!!
URL:https://hollywoodsportscomplex.com/event/dj-chopper/
ATTACH;FMTTYPE=image/jpeg:https://hollywoodsportscomplex.com/wp-content/uploads/2024/11/chopper-32025.jpeg
END:VEVENT
BEGIN:VEVENT
DTSTART;TZID=UTC:20250313T190000
DTEND;TZID=UTC:20250315T200000
DTSTAMP:20260423T222544
CREATED:20241204T232430Z
LAST-MODIFIED:20241204T232430Z
UID:2313-1741892400-1742068800@hollywoodsportscomplex.com
SUMMARY:Carver County Men's End-Season Pool Tourney
DESCRIPTION:
URL:https://hollywoodsportscomplex.com/event/carver-county-mens-end-season-pool-tourney/
END:VEVENT
BEGIN:VEVENT
DTSTART;TZID=UTC:20250315T163000
DTEND;TZID=UTC:20250315T183000
DTSTAMP:20260423T222544
CREATED:20250214T174739Z
LAST-MODIFIED:20250214T174925Z
UID:2473-1742056200-1742063400@hollywoodsportscomplex.com
SUMMARY:Meat Raffle
DESCRIPTION:
URL:https://hollywoodsportscomplex.com/event/meat-raffle-44/
END:VEVENT
BEGIN:VEVENT
DTSTART;TZID=UTC:20250315T180000
DTEND;TZID=UTC:20250315T220000
DTSTAMP:20260423T222544
CREATED:20241223T214326Z
LAST-MODIFIED:20250219T204525Z
UID:2338-1742061600-1742076000@hollywoodsportscomplex.com
SUMMARY:Hell Country Truckers!
DESCRIPTION:
URL:https://hollywoodsportscomplex.com/event/hell-country-truckers/
ATTACH;FMTTYPE=image/jpeg:https://hollywoodsportscomplex.com/wp-content/uploads/2024/12/trio-3.15.25.jpeg
END:VEVENT
BEGIN:VEVENT
DTSTART;TZID=UTC:20250322T120000
DTEND;TZID=UTC:20250322T160000
DTSTAMP:20260423T222544
CREATED:20250124T201704Z
LAST-MODIFIED:20250124T201704Z
UID:2433-1742644800-1742659200@hollywoodsportscomplex.com
SUMMARY:No-Tap Bowling Tourney
DESCRIPTION:The Annual No-Tap Bowling Tournament is here!! Singles & Mixed Doubles!\nTwo shifts at 12pm & 2pm every Saturday\, starting on 3/22 & ending on 4/19!\nGet your people together & join the fun! ALSO a BIG thank you to all of our sponsors!!\nCall 952-955-2424 for reservations & questions!
URL:https://hollywoodsportscomplex.com/event/no-tap-bowling-tourney/
ATTACH;FMTTYPE=image/jpeg:https://hollywoodsportscomplex.com/wp-content/uploads/2025/01/no-tap-2025.jpeg
END:VEVENT
BEGIN:VEVENT
DTSTART;TZID=UTC:20250322T163000
DTEND;TZID=UTC:20250322T183000
DTSTAMP:20260423T222544
CREATED:20250214T175015Z
LAST-MODIFIED:20250214T175015Z
UID:2475-1742661000-1742668200@hollywoodsportscomplex.com
SUMMARY:Meat Raffle
DESCRIPTION:
URL:https://hollywoodsportscomplex.com/event/meat-raffle-45/
ATTACH;FMTTYPE=image/jpeg:https://hollywoodsportscomplex.com/wp-content/uploads/2023/10/fullsizeoutput_227eb.jpeg
END:VEVENT
BEGIN:VEVENT
DTSTART;TZID=UTC:20250322T180000
DTEND;TZID=UTC:20250322T213000
DTSTAMP:20260423T222544
CREATED:20241217T180933Z
LAST-MODIFIED:20250219T204654Z
UID:2322-1742666400-1742679000@hollywoodsportscomplex.com
SUMMARY:Just Us (With Sheldon Brandt)
DESCRIPTION:
URL:https://hollywoodsportscomplex.com/event/just-us-3/
ATTACH;FMTTYPE=image/jpeg:https://hollywoodsportscomplex.com/wp-content/uploads/2024/12/just-us-3.22.jpeg
END:VEVENT
BEGIN:VEVENT
DTSTART;TZID=UTC:20250329T120000
DTEND;TZID=UTC:20250329T160000
DTSTAMP:20260423T222544
CREATED:20250124T201810Z
LAST-MODIFIED:20250124T201810Z
UID:2436-1743249600-1743264000@hollywoodsportscomplex.com
SUMMARY:No-Tap Bowling Tourney
DESCRIPTION:The Annual No-Tap Bowling Tournament is here!! Singles & Mixed Doubles!\nTwo shifts at 12pm & 2pm every Saturday\, starting on 3/22 & ending on 4/19!\nGet your people together & join the fun! ALSO a BIG thank you to all of our sponsors!!\nCall 952-955-2424 for reservations & questions!
URL:https://hollywoodsportscomplex.com/event/no-tap-bowling-tourney-2/
END:VEVENT
BEGIN:VEVENT
DTSTART;TZID=UTC:20250329T163000
DTEND;TZID=UTC:20250329T183000
DTSTAMP:20260423T222544
CREATED:20250219T204800Z
LAST-MODIFIED:20250219T204800Z
UID:2504-1743265800-1743273000@hollywoodsportscomplex.com
SUMMARY:Meat Raffle!
DESCRIPTION:
URL:https://hollywoodsportscomplex.com/event/meat-raffle-46/
END:VEVENT
END:VCALENDAR