BEGIN:VCALENDAR
VERSION:2.0
PRODID:-//Hollywood Sports Complex - ECPv6.2.0.1//NONSGML v1.0//EN
CALSCALE:GREGORIAN
METHOD:PUBLISH
X-ORIGINAL-URL:https://hollywoodsportscomplex.com
X-WR-CALDESC:Events for Hollywood Sports Complex
REFRESH-INTERVAL;VALUE=DURATION:PT1H
X-Robots-Tag:noindex
X-PUBLISHED-TTL:PT1H
BEGIN:VTIMEZONE
TZID:UTC
BEGIN:STANDARD
TZOFFSETFROM:+0000
TZOFFSETTO:+0000
TZNAME:UTC
DTSTART:20250101T000000
END:STANDARD
END:VTIMEZONE
BEGIN:VEVENT
DTSTART;VALUE=DATE:20250501
DTEND;VALUE=DATE:20250502
DTSTAMP:20260423T192909
CREATED:20250430T223141Z
LAST-MODIFIED:20250430T223529Z
UID:2646-1746057600-1746143999@hollywoodsportscomplex.com
SUMMARY:Summer League Deadline!
DESCRIPTION:SUMMER LEAGUE DEADLINE IS MAY 1ST! If you are still thinking about signing up a volleyball or softball team- PLEASE contact us ASAP!We can’t wait for a fun season!!
URL:https://hollywoodsportscomplex.com/event/summer-league-deadline/
ATTACH;FMTTYPE=image/jpeg:https://hollywoodsportscomplex.com/wp-content/uploads/2025/03/deadline-25.jpeg
END:VEVENT
BEGIN:VEVENT
DTSTART;VALUE=DATE:20250503
DTEND;VALUE=DATE:20250504
DTSTAMP:20260423T192909
CREATED:20250219T205709Z
LAST-MODIFIED:20250414T210406Z
UID:2518-1746230400-1746316799@hollywoodsportscomplex.com
SUMMARY:CLOSED for a PRIVATE PARTY!
DESCRIPTION:Sorry for any inconvenience & thank you for understanding!
URL:https://hollywoodsportscomplex.com/event/closed-for-a-private-party/
ATTACH;FMTTYPE=image/jpeg:https://hollywoodsportscomplex.com/wp-content/uploads/2025/02/Dark-Blue-and-Green-Bowling-Party-Poster.zip-4.jpg
END:VEVENT
BEGIN:VEVENT
DTSTART;TZID=UTC:20250513T180000
DTEND;TZID=UTC:20250515T223000
DTSTAMP:20260423T192909
CREATED:20250430T223337Z
LAST-MODIFIED:20250430T223337Z
UID:2648-1747159200-1747348200@hollywoodsportscomplex.com
SUMMARY:First Week of Sand Volleyball!
DESCRIPTION:
URL:https://hollywoodsportscomplex.com/event/first-week-of-sand-volleyball/
END:VEVENT
BEGIN:VEVENT
DTSTART;TZID=UTC:20250520T180000
DTEND;TZID=UTC:20250520T220000
DTSTAMP:20260423T192909
CREATED:20250520T212713Z
LAST-MODIFIED:20250520T212713Z
UID:2705-1747764000-1747778400@hollywoodsportscomplex.com
SUMMARY:***Volleyball games will be rescheduled for this evening!
DESCRIPTION:Due to the amount of water on the courts & cold temperatures- there will be no volleyball tonight! There will be a revised schedule coming out shortly..
URL:https://hollywoodsportscomplex.com/event/volleyball-games-will-be-rescheduled-for-this-evening/
END:VEVENT
BEGIN:VEVENT
DTSTART;TZID=UTC:20250520T220000
DTEND;TZID=UTC:20250522T223000
DTSTAMP:20260423T192909
CREATED:20250430T223416Z
LAST-MODIFIED:20250520T212813Z
UID:2650-1747778400-1747953000@hollywoodsportscomplex.com
SUMMARY:First Week of Summer Softball!
DESCRIPTION:
URL:https://hollywoodsportscomplex.com/event/first-week-of-summer-softball/
END:VEVENT
END:VCALENDAR