BEGIN:VCALENDAR
VERSION:2.0
PRODID:-//Hollywood Sports Complex - ECPv6.2.0.1//NONSGML v1.0//EN
CALSCALE:GREGORIAN
METHOD:PUBLISH
X-WR-CALNAME:Hollywood Sports Complex
X-ORIGINAL-URL:https://hollywoodsportscomplex.com
X-WR-CALDESC:Events for Hollywood Sports Complex
REFRESH-INTERVAL;VALUE=DURATION:PT1H
X-Robots-Tag:noindex
X-PUBLISHED-TTL:PT1H
BEGIN:VTIMEZONE
TZID:UTC
BEGIN:STANDARD
TZOFFSETFROM:+0000
TZOFFSETTO:+0000
TZNAME:UTC
DTSTART:20250101T000000
END:STANDARD
END:VTIMEZONE
BEGIN:VEVENT
DTSTART;TZID=UTC:20250603T180000
DTEND;TZID=UTC:20250605T230000
DTSTAMP:20260423T180302
CREATED:20250603T220040Z
LAST-MODIFIED:20250603T220040Z
UID:2750-1748973600-1749164400@hollywoodsportscomplex.com
SUMMARY:Weekly Sports!
DESCRIPTION:Volleyball & softball line up for June 3rd-5th!
URL:https://hollywoodsportscomplex.com/event/weekly-sports-4/
ATTACH;FMTTYPE=image/png:https://hollywoodsportscomplex.com/wp-content/uploads/2025/06/Green-Black-Modern-Schedule-Poster.png
END:VEVENT
BEGIN:VEVENT
DTSTART;TZID=UTC:20250606T173000
DTEND;TZID=UTC:20250606T233000
DTSTAMP:20260423T180302
CREATED:20250422T203735Z
LAST-MODIFIED:20250530T181430Z
UID:2612-1749231000-1749252600@hollywoodsportscomplex.com
SUMMARY:Beer Bust w/ Chopper
DESCRIPTION:Join us on Friday\, June 6th for a Beer Bust w/ Chopper!!\nAll the Tap Beer you can drink\, with the purchase of a ticket\, from 6:30-8:30pm!\nTickets available at Hollywood!!$5 in advance$8 at the door\nDj Chopper begins at 8:30pm & plays all night!! It’s going to be a good time! We hope you join us!\n-NO Cover starting at 8:30pm (When the beer deal ends & the music begins)
URL:https://hollywoodsportscomplex.com/event/beer-bust-w-chopper/
ATTACH;FMTTYPE=image/jpeg:https://hollywoodsportscomplex.com/wp-content/uploads/2025/04/Beer-Bust-6.6.jpeg
END:VEVENT
BEGIN:VEVENT
DTSTART;TZID=UTC:20250610T180000
DTEND;TZID=UTC:20250612T230000
DTSTAMP:20260423T180302
CREATED:20250609T170052Z
LAST-MODIFIED:20250609T170132Z
UID:2769-1749578400-1749769200@hollywoodsportscomplex.com
SUMMARY:Weekly Sports!
DESCRIPTION:Volleyball & softball line up for June 10th – 12th!
URL:https://hollywoodsportscomplex.com/event/weekly-sports-5/
ATTACH;FMTTYPE=image/png:https://hollywoodsportscomplex.com/wp-content/uploads/2025/06/Green-Black-Modern-Schedule-Poster-1.png
END:VEVENT
BEGIN:VEVENT
DTSTART;TZID=UTC:20250615T100000
DTEND;TZID=UTC:20250615T180000
DTSTAMP:20260423T180302
CREATED:20250422T203814Z
LAST-MODIFIED:20250604T184754Z
UID:2614-1749981600-1750010400@hollywoodsportscomplex.com
SUMMARY:Annual Father's Day Tractor Pull!
DESCRIPTION:It’s that time of year again! OUR ANNUAL FATHER’S DAY TRACTOR PULL! \nThe rules & details are posted within the Facebook event & below here\, thru the website link! Mark the date on your calendar & get those TRACTORS & PICKUP TRUCKS all shined up and ready to compete!It’s always a great time for our competitors & spectators- so ‘pull’ your dads out here and join us for a fun day!It’s tradition!! We’ll see you on Father’s Day! \n$5 Cover / All ages welcome! / 21+ Wristbands will be given at entry
URL:https://hollywoodsportscomplex.com/event/annual-fathers-day-tractor-pull/
ATTACH;FMTTYPE=image/jpeg:https://hollywoodsportscomplex.com/wp-content/uploads/2025/04/tractor-pull-25.jpeg
END:VEVENT
BEGIN:VEVENT
DTSTART;TZID=UTC:20250617T180000
DTEND;TZID=UTC:20250619T223000
DTSTAMP:20260423T180302
CREATED:20250609T172238Z
LAST-MODIFIED:20250609T172238Z
UID:2772-1750183200-1750372200@hollywoodsportscomplex.com
SUMMARY:Weekly Sports
DESCRIPTION:Here are the weekly sports for June 17th & 18th! \nA reminder there are NO SPORTS Thursday\, June 19th- we will be closed for Winstock- enjoy the night off!
URL:https://hollywoodsportscomplex.com/event/weekly-sports-6/
ATTACH;FMTTYPE=image/png:https://hollywoodsportscomplex.com/wp-content/uploads/2025/06/Green-Black-Modern-Schedule-Poster-2.png
END:VEVENT
BEGIN:VEVENT
DTSTART;TZID=UTC:20250619T170000
DTEND;TZID=UTC:20250621T233000
DTSTAMP:20260423T180302
CREATED:20250422T204027Z
LAST-MODIFIED:20250609T172812Z
UID:2616-1750352400-1750548600@hollywoodsportscomplex.com
SUMMARY:Closed for Winstock!
DESCRIPTION:We’ll be CLOSED Thursday\, June 19th thru Saturday\, June 21st to cater at Winstock! Sorry for any inconvenience! \n*No sports that Thursday- enjoy the night off!*
URL:https://hollywoodsportscomplex.com/event/closed-for-winstock-2/
ATTACH;FMTTYPE=image/png:https://hollywoodsportscomplex.com/wp-content/uploads/2025/04/Orange-Blue-Closed-Store-Signage-Landscape-Poster.png
END:VEVENT
BEGIN:VEVENT
DTSTART;TZID=UTC:20250622T170000
DTEND;TZID=UTC:20250622T200000
DTSTAMP:20260423T180302
CREATED:20250530T181740Z
LAST-MODIFIED:20250530T181740Z
UID:2721-1750611600-1750622400@hollywoodsportscomplex.com
SUMMARY:First Night of Youth Sand Volleyball (7-9th)
DESCRIPTION:Food & drinks available on the patio!!
URL:https://hollywoodsportscomplex.com/event/first-night-of-youth-sand-volleyball-7-9th/
END:VEVENT
BEGIN:VEVENT
DTSTART;TZID=UTC:20250623T170000
DTEND;TZID=UTC:20250623T200000
DTSTAMP:20260423T180302
CREATED:20250530T181819Z
LAST-MODIFIED:20250530T181819Z
UID:2724-1750698000-1750708800@hollywoodsportscomplex.com
SUMMARY:First Night of Youth Sand Volleyball (10-12th)
DESCRIPTION:Food & drinks available on the patio!!
URL:https://hollywoodsportscomplex.com/event/first-night-of-youth-sand-volleyball-10-12th/
END:VEVENT
BEGIN:VEVENT
DTSTART;TZID=UTC:20250624T180000
DTEND;TZID=UTC:20250626T230000
DTSTAMP:20260423T180302
CREATED:20250609T175939Z
LAST-MODIFIED:20250609T175939Z
UID:2778-1750788000-1750978800@hollywoodsportscomplex.com
SUMMARY:Weekly Sports!
DESCRIPTION:
URL:https://hollywoodsportscomplex.com/event/weekly-sports-7/
ATTACH;FMTTYPE=image/png:https://hollywoodsportscomplex.com/wp-content/uploads/2025/06/Green-Black-Modern-Schedule-Poster-3.png
END:VEVENT
BEGIN:VEVENT
DTSTART;TZID=UTC:20250627T160000
DTEND;TZID=UTC:20250628T233000
DTSTAMP:20260423T180302
CREATED:20250422T204442Z
LAST-MODIFIED:20250602T232449Z
UID:2621-1751040000-1751153400@hollywoodsportscomplex.com
SUMMARY:Vendor at the Lone Oak Rodeo!
DESCRIPTION:Come visit us at the food & beverage tent!
URL:https://hollywoodsportscomplex.com/event/vendor-at-the-lone-oak-rodeo-2/
ATTACH;FMTTYPE=image/jpeg:https://hollywoodsportscomplex.com/wp-content/uploads/2025/04/rodeo-25.jpeg
END:VEVENT
END:VCALENDAR