BEGIN:VCALENDAR
VERSION:2.0
PRODID:-//Hollywood Sports Complex - ECPv6.2.0.1//NONSGML v1.0//EN
CALSCALE:GREGORIAN
METHOD:PUBLISH
X-WR-CALNAME:Hollywood Sports Complex
X-ORIGINAL-URL:https://hollywoodsportscomplex.com
X-WR-CALDESC:Events for Hollywood Sports Complex
REFRESH-INTERVAL;VALUE=DURATION:PT1H
X-Robots-Tag:noindex
X-PUBLISHED-TTL:PT1H
BEGIN:VTIMEZONE
TZID:UTC
BEGIN:STANDARD
TZOFFSETFROM:+0000
TZOFFSETTO:+0000
TZNAME:UTC
DTSTART:20250101T000000
END:STANDARD
END:VTIMEZONE
BEGIN:VEVENT
DTSTART;VALUE=DATE:20251205
DTEND;VALUE=DATE:20251206
DTSTAMP:20260423T084021
CREATED:20250913T195211Z
LAST-MODIFIED:20251122T211650Z
UID:3071-1764892800-1764979199@hollywoodsportscomplex.com
SUMMARY:CLOSED for a Private Party!
DESCRIPTION:Sorry for any inconvenience & thanks for understanding!
URL:https://hollywoodsportscomplex.com/event/closed-for-a-private-party-2/
ATTACH;FMTTYPE=image/png:https://hollywoodsportscomplex.com/wp-content/uploads/2025/09/Red-Bright-Fun-Business-Christmas-Closure-Dates-Facebook-Post-1.png
END:VEVENT
BEGIN:VEVENT
DTSTART;TZID=UTC:20251206T160000
DTEND;TZID=UTC:20251206T233000
DTSTAMP:20260423T084021
CREATED:20251122T212947Z
LAST-MODIFIED:20251201T061824Z
UID:3215-1765036800-1765063800@hollywoodsportscomplex.com
SUMMARY:Let's Celebrate the "Holly"Days!
DESCRIPTION:Everyone get out your holiday shirts & sweaters!! We’ll have all our ‘jingle bar’ decor up\, festive drinks\, merch deals\, meat raffle\, live music & more!!
URL:https://hollywoodsportscomplex.com/event/lets-celebrate-the-hollydays/
ATTACH;FMTTYPE=image/jpeg:https://hollywoodsportscomplex.com/wp-content/uploads/2025/11/Simple-Festive-Shop-Opening-Hours-Christmas-Poster-5.jpg
END:VEVENT
BEGIN:VEVENT
DTSTART;TZID=UTC:20251206T163000
DTEND;TZID=UTC:20251206T180000
DTSTAMP:20260423T084021
CREATED:20251122T212335Z
LAST-MODIFIED:20251122T212335Z
UID:3208-1765038600-1765044000@hollywoodsportscomplex.com
SUMMARY:Meat Raffle!
DESCRIPTION:
URL:https://hollywoodsportscomplex.com/event/meat-raffle-52/
END:VEVENT
BEGIN:VEVENT
DTSTART;TZID=UTC:20251206T183000
DTEND;TZID=UTC:20251206T223000
DTSTAMP:20260423T084021
CREATED:20251009T001553Z
LAST-MODIFIED:20251201T061853Z
UID:3122-1765045800-1765060200@hollywoodsportscomplex.com
SUMMARY:Music by 'Wrong Number"!!
DESCRIPTION:
URL:https://hollywoodsportscomplex.com/event/music-by-kev-doug/
END:VEVENT
BEGIN:VEVENT
DTSTART;TZID=UTC:20251211T200000
DTEND;TZID=UTC:20251211T210000
DTSTAMP:20260423T084021
CREATED:20250830T000510Z
LAST-MODIFIED:20251124T215828Z
UID:3038-1765483200-1765486800@hollywoodsportscomplex.com
SUMMARY:Vikings Street Team!
DESCRIPTION:
URL:https://hollywoodsportscomplex.com/event/vikings-country/
ATTACH;FMTTYPE=image/jpeg:https://hollywoodsportscomplex.com/wp-content/uploads/2025/08/C_Program-Files_SAi_SAi-Production-Suite-24_Jobs-and-Settings_temp_11x17-Street-Team-Heldts.jpg
END:VEVENT
BEGIN:VEVENT
DTSTART;VALUE=DATE:20251213
DTEND;VALUE=DATE:20251214
DTSTAMP:20260423T084021
CREATED:20251122T211835Z
LAST-MODIFIED:20251210T184416Z
UID:3200-1765584000-1765670399@hollywoodsportscomplex.com
SUMMARY:CLOSED for a Private Party!
DESCRIPTION:NO MEAT RAFFLE!!
URL:https://hollywoodsportscomplex.com/event/closed-for-a-private-party-3/
ATTACH;FMTTYPE=image/png:https://hollywoodsportscomplex.com/wp-content/uploads/2025/11/Red-Bright-Fun-Business-Christmas-Closure-Dates-Facebook-Post-4.png
END:VEVENT
BEGIN:VEVENT
DTSTART;TZID=UTC:20251219T210000
DTEND;TZID=UTC:20251220T000000
DTSTAMP:20260423T084021
CREATED:20250830T000544Z
LAST-MODIFIED:20251201T062608Z
UID:3040-1766178000-1766188800@hollywoodsportscomplex.com
SUMMARY:IV Play @ Hollywood!!!
DESCRIPTION:$10 Cover / 21+ Event
URL:https://hollywoodsportscomplex.com/event/iv-play-hollywood/
ATTACH;FMTTYPE=image/jpeg:https://hollywoodsportscomplex.com/wp-content/uploads/2025/08/IMG_3059.jpg
END:VEVENT
BEGIN:VEVENT
DTSTART;TZID=UTC:20251220T163000
DTEND;TZID=UTC:20251220T180000
DTSTAMP:20260423T084021
CREATED:20251122T212407Z
LAST-MODIFIED:20251122T212559Z
UID:3210-1766248200-1766253600@hollywoodsportscomplex.com
SUMMARY:Meat Raffle!
DESCRIPTION:
URL:https://hollywoodsportscomplex.com/event/meat-raffle-53/
ATTACH;FMTTYPE=image/jpeg:https://hollywoodsportscomplex.com/wp-content/uploads/2023/10/fullsizeoutput_227eb.jpeg
END:VEVENT
BEGIN:VEVENT
DTSTART;TZID=UTC:20251227T163000
DTEND;TZID=UTC:20251227T180000
DTSTAMP:20260423T084021
CREATED:20251122T212436Z
LAST-MODIFIED:20251122T212436Z
UID:3212-1766853000-1766858400@hollywoodsportscomplex.com
SUMMARY:Meat Raffle!
DESCRIPTION:
URL:https://hollywoodsportscomplex.com/event/meat-raffle-54/
END:VEVENT
BEGIN:VEVENT
DTSTART;TZID=UTC:20251227T200000
DTEND;TZID=UTC:20251228T000000
DTSTAMP:20260423T084021
CREATED:20250830T000631Z
LAST-MODIFIED:20251201T062013Z
UID:3042-1766865600-1766880000@hollywoodsportscomplex.com
SUMMARY:Diamondback is BACK @ Hollywood!
DESCRIPTION:Our goodbye to 2025! Let’s party!!
URL:https://hollywoodsportscomplex.com/event/diamondback-is-back-hollywood/
ATTACH;FMTTYPE=image/jpeg:https://hollywoodsportscomplex.com/wp-content/uploads/2025/08/DB-25.jpeg
END:VEVENT
END:VCALENDAR